BEGIN:VCALENDAR
VERSION:2.0
PRODID:-//ChamberMaster//Event Calendar 2.0//EN
METHOD:PUBLISH
X-PUBLISHED-TTL:P1H
REFRESH-INTERVAL:P1H
CALSCALE:GREGORIAN
BEGIN:VTIMEZONE
TZID:America/New_York
BEGIN:DAYLIGHT
RRULE:FREQ=YEARLY;BYMONTH=3;BYDAY=2SU
DTSTART:20070101T000000
TZOFFSETFROM:-0500
TZOFFSETTO:-0400
TZNAME:Eastern Daylight Time
END:DAYLIGHT
BEGIN:STANDARD
RRULE:FREQ=YEARLY;BYMONTH=11;BYDAY=1SU
DTSTART:20070101T000000
TZOFFSETFROM:-0400
TZOFFSETTO:-0500
TZNAME:Eastern Standard Time
END:STANDARD
END:VTIMEZONE
BEGIN:VEVENT
DTSTART;TZID=America/New_York:20260430T090000
DTEND;TZID=America/New_York:20260430T100000
X-MICROSOFT-CDO-ALLDAYEVENT:FALSE
SUMMARY:[Virtual] 2026 Digital Economy Framework Agreement (DEFA) Briefing by Mr. Theodore Sutarto\, Lead for Indonesia DEFA NC
DESCRIPTION:
X-ALT-DESC;FMTTYPE=text/html:
LOCATION:
UID:e.3358.1449829
SEQUENCE:3
DTSTAMP:20260425T024122Z
URL:https://members.usasean.org/eventcalendar/Details/virtual-2026-digital-economy-framework-agreement-defa-briefing-by-mr-theodore-sutarto-lead-for-indonesia-defa-nc-1717334?sourceTypeId=Hub
END:VEVENT
END:VCALENDAR
