BEGIN:VCALENDAR
VERSION:2.0
PRODID:-//ChamberMaster//Event Calendar 2.0//EN
METHOD:PUBLISH
X-PUBLISHED-TTL:P1H
REFRESH-INTERVAL:P1H
CALSCALE:GREGORIAN
BEGIN:VTIMEZONE
TZID:Asia/Manila
BEGIN:DAYLIGHT
DTSTART:20070311T020000
TZOFFSETFROM:0800
TZOFFSETTO:0800
TZNAME:(UTC+08:00) Kuala Lumpur, Singapore
END:DAYLIGHT
BEGIN:STANDARD
DTSTART:20071104T020000
TZOFFSETFROM:0800
TZOFFSETTO:0800
TZNAME:(UTC+08:00) Kuala Lumpur, Singapore
END:STANDARD
END:VTIMEZONE
BEGIN:VEVENT
DTSTART;TZID=Asia/Manila:20260427T100000
DTEND;TZID=Asia/Manila:20260427T113000
X-MICROSOFT-CDO-ALLDAYEVENT:FALSE
SUMMARY:Philippines Committee Meeting with USABC Interim President and CEO\, Amb. Brian McFeeters
DESCRIPTION:
X-ALT-DESC;FMTTYPE=text/html:
LOCATION:
UID:e.3358.1447648
SEQUENCE:3
DTSTAMP:20260421T182705Z
URL:https://members.usasean.org/eventcalendar/Details/philippines-committee-meeting-with-usabc-interim-president-and-ceo-amb-brian-mcfeeters-1714588?sourceTypeId=Hub
END:VEVENT
END:VCALENDAR
