BEGIN:VCALENDAR
VERSION:2.0
PRODID:-//ChamberMaster//Event Calendar 2.0//EN
METHOD:PUBLISH
X-PUBLISHED-TTL:P1H
REFRESH-INTERVAL:P1H
CALSCALE:GREGORIAN
BEGIN:VTIMEZONE
TZID:Asia/Jakarta
BEGIN:DAYLIGHT
DTSTART:20070311T020000
TZOFFSETFROM:0700
TZOFFSETTO:0700
TZNAME:(UTC+07:00) Bangkok, Hanoi, Jakarta
END:DAYLIGHT
BEGIN:STANDARD
DTSTART:20071104T020000
TZOFFSETFROM:0700
TZOFFSETTO:0700
TZNAME:(UTC+07:00) Bangkok, Hanoi, Jakarta
END:STANDARD
END:VTIMEZONE
BEGIN:VEVENT
DTSTART;TZID=Asia/Jakarta:20260424T140000
DTEND;TZID=Asia/Jakarta:20260424T150000
X-MICROSOFT-CDO-ALLDAYEVENT:FALSE
SUMMARY:Indonesia ICT Members Discussion Call
DESCRIPTION:
X-ALT-DESC;FMTTYPE=text/html:
LOCATION:
UID:e.3358.1446918
SEQUENCE:3
DTSTAMP:20260421T195036Z
URL:https://members.usasean.org/eventcalendar/Details/indonesia-ict-members-discussion-call-1713728?sourceTypeId=Hub
END:VEVENT
END:VCALENDAR
