BEGIN:VCALENDAR
VERSION:2.0
PRODID:-//ChamberMaster//Event Calendar 2.0//EN
METHOD:PUBLISH
X-PUBLISHED-TTL:P1H
REFRESH-INTERVAL:P1H
CALSCALE:GREGORIAN
BEGIN:VTIMEZONE
TZID:Asia/Jakarta
BEGIN:DAYLIGHT
DTSTART:20070311T020000
TZOFFSETFROM:0700
TZOFFSETTO:0700
TZNAME:(UTC+07:00) Bangkok, Hanoi, Jakarta
END:DAYLIGHT
BEGIN:STANDARD
DTSTART:20071104T020000
TZOFFSETFROM:0700
TZOFFSETTO:0700
TZNAME:(UTC+07:00) Bangkok, Hanoi, Jakarta
END:STANDARD
END:VTIMEZONE
BEGIN:VEVENT
DTSTART;TZID=Asia/Jakarta:20260430T090000
DTEND;TZID=Asia/Jakarta:20260430T100000
X-MICROSOFT-CDO-ALLDAYEVENT:FALSE
SUMMARY:[In-Person] 2026 Digital Economy Framework Agreement (DEFA) Briefing by Mr. Theodore Sutarto\, Lead for Indonesia DEFA NC
DESCRIPTION:
X-ALT-DESC;FMTTYPE=text/html:
LOCATION:
UID:e.3358.1449824
SEQUENCE:3
DTSTAMP:20260425T025922Z
URL:https://members.usasean.org/eventcalendar/Details/in-person-2026-digital-economy-framework-agreement-defa-briefing-by-mr-theodore-sutarto-lead-for-indonesia-defa-nc-1717294?sourceTypeId=Hub
END:VEVENT
END:VCALENDAR
