BEGIN:VCALENDAR
VERSION:2.0
PRODID:-//ChamberMaster//Event Calendar 2.0//EN
METHOD:PUBLISH
X-PUBLISHED-TTL:P1H
REFRESH-INTERVAL:P1H
CALSCALE:GREGORIAN
BEGIN:VTIMEZONE
TZID:America/New_York
BEGIN:DAYLIGHT
RRULE:FREQ=YEARLY;BYMONTH=3;BYDAY=2SU
DTSTART:20070101T000000
TZOFFSETFROM:-0500
TZOFFSETTO:-0400
TZNAME:Eastern Daylight Time
END:DAYLIGHT
BEGIN:STANDARD
RRULE:FREQ=YEARLY;BYMONTH=11;BYDAY=1SU
DTSTART:20070101T000000
TZOFFSETFROM:-0400
TZOFFSETTO:-0500
TZNAME:Eastern Standard Time
END:STANDARD
END:VTIMEZONE
BEGIN:VEVENT
DTSTART;TZID=America/New_York:20260427T183000
DTEND;TZID=America/New_York:20260427T200000
X-MICROSOFT-CDO-ALLDAYEVENT:FALSE
SUMMARY:High-Level Dialogue with Dr. Teodoro J. Herbosa Secretary of Health of the Philippines
DESCRIPTION:
X-ALT-DESC;FMTTYPE=text/html:
LOCATION:Manila National Capital Region
UID:e.3358.1438717
SEQUENCE:3
DTSTAMP:20260421T084706Z
URL:https://members.usasean.org/eventcalendar/Details/high-level-dialogue-with-dr-teodoro-j-herbosa-secretary-of-health-of-the-philippines-1702927?sourceTypeId=Hub
END:VEVENT
END:VCALENDAR
