BEGIN:VCALENDAR
VERSION:2.0
PRODID:-//ChamberMaster//Event Calendar 2.0//EN
METHOD:PUBLISH
X-PUBLISHED-TTL:P1H
REFRESH-INTERVAL:P1H
CALSCALE:GREGORIAN
BEGIN:VTIMEZONE
TZID:America/New_York
BEGIN:DAYLIGHT
RRULE:FREQ=YEARLY;BYMONTH=3;BYDAY=2SU
DTSTART:20070101T000000
TZOFFSETFROM:-0500
TZOFFSETTO:-0400
TZNAME:Eastern Daylight Time
END:DAYLIGHT
BEGIN:STANDARD
RRULE:FREQ=YEARLY;BYMONTH=11;BYDAY=1SU
DTSTART:20070101T000000
TZOFFSETFROM:-0400
TZOFFSETTO:-0500
TZNAME:Eastern Standard Time
END:STANDARD
END:VTIMEZONE
BEGIN:VEVENT
DTSTART;TZID=America/New_York:20260429T100000
DTEND;TZID=America/New_York:20260429T130000
X-MICROSOFT-CDO-ALLDAYEVENT:FALSE
SUMMARY:Advancing ASEAN: A Strategic Action Plan Supporting the Philippines’ 2026 Chairship
DESCRIPTION:
X-ALT-DESC;FMTTYPE=text/html:
LOCATION:Pasig City National Capital Region
UID:e.3358.1445977
SEQUENCE:3
DTSTAMP:20260420T053700Z
URL:https://members.usasean.org/eventcalendar/Details/advancing-asean-a-strategic-action-plan-supporting-the-philippines-2026-chairship-1712689?sourceTypeId=Hub
END:VEVENT
END:VCALENDAR
