BEGIN:VCALENDAR
VERSION:2.0
PRODID:-//ChamberMaster//Event Calendar 2.0//EN
METHOD:PUBLISH
X-PUBLISHED-TTL:P1H
REFRESH-INTERVAL:P1H
CALSCALE:GREGORIAN
BEGIN:VTIMEZONE
TZID:America/New_York
BEGIN:DAYLIGHT
RRULE:FREQ=YEARLY;BYMONTH=3;BYDAY=2SU
DTSTART:20070101T000000
TZOFFSETFROM:-0500
TZOFFSETTO:-0400
TZNAME:Eastern Daylight Time
END:DAYLIGHT
BEGIN:STANDARD
RRULE:FREQ=YEARLY;BYMONTH=11;BYDAY=1SU
DTSTART:20070101T000000
TZOFFSETFROM:-0400
TZOFFSETTO:-0500
TZNAME:Eastern Standard Time
END:STANDARD
END:VTIMEZONE
BEGIN:VEVENT
DTSTART;TZID=America/New_York:20260429T090000
DTEND;TZID=America/New_York:20260429T100000
X-MICROSOFT-CDO-ALLDAYEVENT:FALSE
SUMMARY:2nd Planning Call for 2026 Malaysia Business Mission
DESCRIPTION:The Council is pleased to invite you to the 2026 Malaysia Business Mission Planning Session #2. \n\nDuring the call\, the team will be discussing more detailed information on the upcoming 2026 Malaysia Business Mission\, e.g.\, meeting confirmations\, schedule\, speaking roles\, talking points\, meeting reminders
X-ALT-DESC;FMTTYPE=text/html:The Council is pleased to invite you to the 2026 Malaysia Business Mission Planning Session #2. \n\nDuring the call\, the team will be discussing more detailed information on the upcoming 2026 Malaysia Business Mission\, e.g.\, meeting confirmations\, schedule\, speaking roles\, talking points\, meeting reminders
LOCATION:
UID:e.3358.1451331
SEQUENCE:3
DTSTAMP:20260425T105239Z
URL:https://members.usasean.org/eventcalendar/Details/2nd-planning-call-for-2026-malaysia-business-mission-1719060?sourceTypeId=Hub
END:VEVENT
END:VCALENDAR
