BEGIN:VCALENDAR
VERSION:2.0
PRODID:-//ChamberMaster//Event Calendar 2.0//EN
METHOD:PUBLISH
X-PUBLISHED-TTL:P1H
REFRESH-INTERVAL:P1H
CALSCALE:GREGORIAN
BEGIN:VTIMEZONE
TZID:Asia/Singapore
BEGIN:DAYLIGHT
DTSTART:20070311T020000
TZOFFSETFROM:0800
TZOFFSETTO:0800
TZNAME:(UTC+08:00) Kuala Lumpur, Singapore
END:DAYLIGHT
BEGIN:STANDARD
DTSTART:20071104T020000
TZOFFSETFROM:0800
TZOFFSETTO:0800
TZNAME:(UTC+08:00) Kuala Lumpur, Singapore
END:STANDARD
END:VTIMEZONE
BEGIN:VEVENT
DTSTART;TZID=Asia/Singapore:20260428T090000
DTEND;TZID=Asia/Singapore:20260428T100000
X-MICROSOFT-CDO-ALLDAYEVENT:FALSE
SUMMARY:2026 Singapore Business Mission Planning Call #3
DESCRIPTION:
X-ALT-DESC;FMTTYPE=text/html:
LOCATION:
UID:e.3358.1447801
SEQUENCE:3
DTSTAMP:20260425T025625Z
URL:https://members.usasean.org/eventcalendar/Details/2026-singapore-business-mission-planning-call-3-1714741?sourceTypeId=Hub
END:VEVENT
END:VCALENDAR
