BEGIN:VCALENDAR
VERSION:2.0
PRODID:-//ChamberMaster//Event Calendar 2.0//EN
METHOD:PUBLISH
X-PUBLISHED-TTL:P1H
REFRESH-INTERVAL:P1H
CALSCALE:GREGORIAN
BEGIN:VTIMEZONE
TZID:Asia/Singapore
BEGIN:DAYLIGHT
DTSTART:20070311T020000
TZOFFSETFROM:0800
TZOFFSETTO:0800
TZNAME:(UTC+08:00) Kuala Lumpur, Singapore
END:DAYLIGHT
BEGIN:STANDARD
DTSTART:20071104T020000
TZOFFSETFROM:0800
TZOFFSETTO:0800
TZNAME:(UTC+08:00) Kuala Lumpur, Singapore
END:STANDARD
END:VTIMEZONE
BEGIN:VEVENT
DTSTART;TZID=Asia/Singapore:20260513T090000
DTEND;TZID=Asia/Singapore:20260513T103000
X-MICROSOFT-CDO-ALLDAYEVENT:FALSE
SUMMARY:2026 Q2 CTSC Committee Call and 2nd Planning Call for the 2026 ASEAN Customs DG Business Mission
DESCRIPTION:The 2026 Q2 CTSC Committee Call and the 2nd Planning Call for the 2026 ASEAN Customs DG Business Mission will be held on Wednesday\, May 13\, 2026 from 9:00 - 10:30 AM SGT | Tuesday\, May 12\, 2026 from 9:00 - 10:30 PM ET.
X-ALT-DESC;FMTTYPE=text/html:<!DOCTYPE html><html><head><title></title></head><body aria-disabled="false"><p>The 2026 Q2 CTSC Committee Call and the 2nd Planning Call for the 2026 ASEAN Customs DG Business Mission will be held on Wednesday\, May 13\, 2026 from 9:00 - 10:30 AM SGT | Tuesday\, May 12\, 2026 from 9:00 - 10:30 PM ET.</p></body></html>
LOCATION:
UID:e.3358.1449743
SEQUENCE:3
DTSTAMP:20260423T213026Z
URL:https://members.usasean.org/eventcalendar/Details/2026-q2-ctsc-committee-call-and-2nd-planning-call-for-the-2026-asean-customs-dg-business-mission-1717213?sourceTypeId=Hub
END:VEVENT
END:VCALENDAR
